BEGIN:VCALENDAR
VERSION:2.0
PRODID:SchoolNow
CALSCALE:GREGORIAN
BEGIN:VEVENT
UID:efc49506-f612-11eb-964f-0ad5a9a2b791
DTSTAMP:20210805T173333Z
SUMMARY:Football camp
URL;VALUE=URI:https://www.albanyschools.org/athletics/calendar/2656210/foot
 ball-camp
DTSTART:20210809T200000Z
DTEND:20210813T230000Z
END:VEVENT
END:VCALENDAR
