BEGIN:VCALENDAR
VERSION:2.0
PRODID:SchoolNow
CALSCALE:GREGORIAN
BEGIN:VEVENT
UID:ee87bea4-8f5d-11ec-861f-020bdb6f2951
DTSTAMP:20220216T192333Z
SUMMARY:High school spring sports begin
URL;VALUE=URI:https://www.albanyschools.org/athletics/calendar/3106716/high
 -school-spring-sports-begin
DTSTART;VALUE=DATE:20220314
DTEND;VALUE=DATE:20220315
END:VEVENT
END:VCALENDAR
