BEGIN:VCALENDAR
VERSION:2.0
PRODID:SchoolNow
CALSCALE:GREGORIAN
BEGIN:VEVENT
UID:f4f3d962-8f5d-11ec-b0bf-020bdb6f2951
DTSTAMP:20220216T192344Z
SUMMARY:Modified spring sports begin
URL;VALUE=URI:https://www.albanyschools.org/athletics/calendar/3106717/high
 -school-spring-sports-begin-clone
DTSTART;VALUE=DATE:20220321
DTEND;VALUE=DATE:20220322
END:VEVENT
END:VCALENDAR
