BEGIN:VCALENDAR
VERSION:2.0
PRODID:SchoolNow
CALSCALE:GREGORIAN
BEGIN:VEVENT
UID:9fb0bcd0-d78e-11ec-9bcc-026744579741
DTSTAMP:20220815T142019Z
SUMMARY:High school fall sports begin
URL;VALUE=URI:https://www.albanyschools.org/athletics/calendar/3201915/high
 -school-fall-sports-begin
DTSTART;VALUE=DATE:20220822
DTEND;VALUE=DATE:20220823
END:VEVENT
END:VCALENDAR
