BEGIN:VCALENDAR
VERSION:2.0
PRODID:SchoolNow
CALSCALE:GREGORIAN
BEGIN:VEVENT
UID:ce755f08-d78e-11ec-8f96-021049d3383b
DTSTAMP:20220815T142022Z
SUMMARY:Modified fall sports begin
URL;VALUE=URI:https://www.albanyschools.org/athletics/calendar/3201918/modi
 fied-fall-sports-begin
DTSTART;VALUE=DATE:20220829
DTEND;VALUE=DATE:20220830
END:VEVENT
END:VCALENDAR
