BEGIN:VCALENDAR
VERSION:2.0
PRODID:SchoolNow
CALSCALE:GREGORIAN
BEGIN:VEVENT
UID:316aa60e-d78f-11ec-85e9-0efd9965ef2f
DTSTAMP:20220815T142047Z
SUMMARY:Modified winter sports begin
URL;VALUE=URI:https://www.albanyschools.org/athletics/calendar/3201926/modi
 fied-winter-sports-begin
DTSTART;VALUE=DATE:20221121
DTEND;VALUE=DATE:20221122
END:VEVENT
END:VCALENDAR
