BEGIN:VCALENDAR
VERSION:2.0
PRODID:SchoolNow
CALSCALE:GREGORIAN
BEGIN:VEVENT
UID:330ec97e-e750-11ec-b899-026087ad0a89
DTSTAMP:20220608T172658Z
SUMMARY:Athletics awards night
LOCATION:Stephen and Harriet Myers Middle School\, 100 Elbel Court off Whit
 ehall Road
URL;VALUE=URI:https://www.albanyschools.org/athletics/calendar/3214630/athl
 etics-awards-night
DTSTART:20220622T213000Z
DTEND:20220622T233000Z
END:VEVENT
END:VCALENDAR
