BEGIN:VCALENDAR
VERSION:2.0
PRODID:SchoolNow
CALSCALE:GREGORIAN
BEGIN:VEVENT
UID:92c30292-fc61-11ec-a018-0aeab622e103
DTSTAMP:20220815T141707Z
SUMMARY:Fall high school sports sign-ups begin
URL;VALUE=URI:https://www.albanyschools.org/athletics/calendar/3237086/fall
 -high-school-sports-sign-up-begins
DTSTART:20220722T125300Z
DTEND:20220722T135300Z
END:VEVENT
END:VCALENDAR
