BEGIN:VCALENDAR
VERSION:2.0
PRODID:SchoolNow
CALSCALE:GREGORIAN
BEGIN:VEVENT
UID:ade31daa-fc61-11ec-91d0-0e105653f9d1
DTSTAMP:20220721T195608Z
SUMMARY:Fall modified sports sign up begins
URL;VALUE=URI:https://www.albanyschools.org/athletics/calendar/3237087/fall
 -modified-sports-sign-up-begin
DTSTART:20220729T125400Z
DTEND:20220729T135400Z
END:VEVENT
END:VCALENDAR
