BEGIN:VCALENDAR
VERSION:2.0
PRODID:SchoolNow
CALSCALE:GREGORIAN
BEGIN:VEVENT
UID:fcbab3d4-fc61-11ec-9616-0aeab622e103
DTSTAMP:20220815T140952Z
SUMMARY:Hall of Fame Induction Ceremony
URL;VALUE=URI:https://www.albanyschools.org/athletics/calendar/3237090/hall
 -of-fame-induction-ceremony
DTSTART:20221015T130000Z
DTEND:20221015T140000Z
END:VEVENT
END:VCALENDAR
