BEGIN:VCALENDAR
VERSION:2.0
PRODID:SchoolNow
CALSCALE:GREGORIAN
BEGIN:VEVENT
UID:12fa2bde-fc62-11ec-bddd-02821c5349db
DTSTAMP:20221014T211414Z
SUMMARY:Homecoming Game vs. Niskayuna
LOCATION:Albany High
URL;VALUE=URI:https://www.albanyschools.org/athletics/calendar/3237091/alba
 ny-high-school-homecoming
DTSTART:20221015T173000Z
DTEND:20221015T200000Z
END:VEVENT
END:VCALENDAR
