BEGIN:VCALENDAR
VERSION:2.0
PRODID:SchoolNow
CALSCALE:GREGORIAN
BEGIN:VEVENT
UID:8fba8ba0-fc62-11ec-bb8a-02821c5349db
DTSTAMP:20220721T195627Z
SUMMARY:Fall Meet the Coaches Night
URL;VALUE=URI:https://www.albanyschools.org/athletics/calendar/3237101/fall
 -meet-the-coaches-night
DTSTART:20220829T220000Z
DTEND:20220829T230000Z
END:VEVENT
END:VCALENDAR
