BEGIN:VCALENDAR
VERSION:2.0
PRODID:SchoolNow
CALSCALE:GREGORIAN
BEGIN:VEVENT
UID:ab8a0090-fc62-11ec-a1bb-0a92716e8889
DTSTAMP:20220815T142027Z
SUMMARY:Winter high school sports sign-ups begin
URL;VALUE=URI:https://www.albanyschools.org/athletics/calendar/3237102/wint
 er-high-school-sports-sign-up-begins
DTSTART;VALUE=DATE:20221014
DTEND;VALUE=DATE:20221015
END:VEVENT
END:VCALENDAR
