BEGIN:VCALENDAR
VERSION:2.0
PRODID:SchoolNow
CALSCALE:GREGORIAN
BEGIN:VEVENT
UID:f365cbd8-fc62-11ec-a078-02821c5349db
DTSTAMP:20220705T130406Z
SUMMARY:Winter Meet the Coaches Night
URL;VALUE=URI:https://www.albanyschools.org/athletics/calendar/3237108/wint
 er-meet-the-coaches-night
DTSTART:20221122T230000Z
DTEND:20221123T000000Z
END:VEVENT
END:VCALENDAR
