BEGIN:VCALENDAR
VERSION:2.0
PRODID:SchoolNow
CALSCALE:GREGORIAN
BEGIN:VEVENT
UID:b3adf6e0-fc63-11ec-8cad-0e0814e725ad
DTSTAMP:20220705T130928Z
SUMMARY:Athletics Awards Night
URL;VALUE=URI:https://www.albanyschools.org/athletics/calendar/3237119/athl
 etics-awards-night
DTSTART:20220705T213000Z
DTEND:20220705T223000Z
END:VEVENT
END:VCALENDAR
