BEGIN:VCALENDAR
VERSION:2.0
PRODID:SchoolNow
CALSCALE:GREGORIAN
BEGIN:VEVENT
UID:fde65072-181a-11ed-9a91-02394a6d554d
DTSTAMP:20220809T194008Z
SUMMARY:Physicals for fall sports (8/17)
LOCATION:Abrookin Career and Technical Center\, 99 Kent St.
URL;VALUE=URI:https://www.albanyschools.org/athletics/calendar/3275335/phys
 icals-for-fall-sports-8-17
DTSTART:20220817T143000Z
DTEND:20220817T182000Z
END:VEVENT
END:VCALENDAR
