BEGIN:VCALENDAR
VERSION:2.0
PRODID:SchoolNow
CALSCALE:GREGORIAN
BEGIN:VEVENT
UID:210e4f6e-181b-11ed-a55f-02394a6d554d
DTSTAMP:20220809T194031Z
SUMMARY:Physicals for fall sports (8/18)
LOCATION:Abrookin Career and Technical Center\, 99 Kent St.
URL;VALUE=URI:https://www.albanyschools.org/athletics/calendar/3275336/phys
 icals-for-fall-sports-8-18
DTSTART:20220818T143000Z
DTEND:20220818T182000Z
END:VEVENT
END:VCALENDAR
