BEGIN:VCALENDAR
VERSION:2.0
PRODID:SchoolNow
CALSCALE:GREGORIAN
BEGIN:VEVENT
UID:29760c78-181b-11ed-be46-02394a6d554d
DTSTAMP:20220809T194045Z
SUMMARY:Physicals for fall sports (8/23)
LOCATION:Abrookin Career and Technical Center\, 99 Kent St.
URL;VALUE=URI:https://www.albanyschools.org/athletics/calendar/3275339/phys
 icals-for-fall-sports-8-23
DTSTART:20220823T143000Z
DTEND:20220823T182000Z
END:VEVENT
END:VCALENDAR
