BEGIN:VCALENDAR
VERSION:2.0
PRODID:SchoolNow
CALSCALE:GREGORIAN
BEGIN:VEVENT
UID:536b2732-1ca5-11ed-9a46-0298f1c1417d
DTSTAMP:20220815T142109Z
SUMMARY:High school fall sports begin
URL;VALUE=URI:https://www.albanyschools.org/athletics/calendar/3282254/high
 -school-fall-sports-begin-clone
DTSTART;VALUE=DATE:20230821
DTEND;VALUE=DATE:20230822
END:VEVENT
END:VCALENDAR
