BEGIN:VCALENDAR
VERSION:2.0
PRODID:SchoolNow
CALSCALE:GREGORIAN
BEGIN:VEVENT
UID:e1aab8b0-62ee-11ee-b6a9-02cedc338c99
DTSTAMP:20231004T194742Z
SUMMARY:Winter high school sports sign-ups begin
URL;VALUE=URI:https://www.albanyschools.org/athletics/calendar/4831569/wint
 er-high-school-sports-sign-ups-begin
DTSTART;VALUE=DATE:20231013
DTEND;VALUE=DATE:20231014
END:VEVENT
END:VCALENDAR
