BEGIN:VCALENDAR
VERSION:2.0
PRODID:SchoolNow
CALSCALE:GREGORIAN
BEGIN:VEVENT
UID:f69cb282-62ee-11ee-a669-0a58a9feac02
DTSTAMP:20231004T194817Z
SUMMARY:Winter modified sports sign-ups begin
URL;VALUE=URI:https://www.albanyschools.org/athletics/calendar/4831570/wint
 er-modified-sports-sign-ups-begin
DTSTART;VALUE=DATE:20231020
DTEND;VALUE=DATE:20231021
END:VEVENT
END:VCALENDAR
