BEGIN:VCALENDAR
VERSION:2.0
PRODID:SchoolNow
CALSCALE:GREGORIAN
BEGIN:VEVENT
UID:2cc9e26c-62ef-11ee-b7a6-0a58a9feac02
DTSTAMP:20231004T194948Z
SUMMARY:Modified winter sports begin
URL;VALUE=URI:https://www.albanyschools.org/athletics/calendar/4831573/modi
 fied-winter-sports-begin
DTSTART;VALUE=DATE:20231120
DTEND;VALUE=DATE:20231121
END:VEVENT
END:VCALENDAR
