BEGIN:VCALENDAR
VERSION:2.0
PRODID:SchoolNow
CALSCALE:GREGORIAN
BEGIN:VEVENT
UID:93dd5df8-62ef-11ee-8451-0a58a9feac02
DTSTAMP:20231004T195241Z
SUMMARY:Spring high school sports sign-ups begin
URL;VALUE=URI:https://www.albanyschools.org/athletics/calendar/4831576/spri
 ng-high-school-sports-sign-ups-begin
DTSTART;VALUE=DATE:20240211
DTEND;VALUE=DATE:20240212
END:VEVENT
END:VCALENDAR
