BEGIN:VCALENDAR
VERSION:2.0
PRODID:SchoolNow
CALSCALE:GREGORIAN
BEGIN:VEVENT
UID:a2335ae2-62ef-11ee-b174-0a58a9feac02
DTSTAMP:20240212T164241Z
SUMMARY:Spring modified sports sign-ups begin
URL;VALUE=URI:https://www.albanyschools.org/athletics/calendar/4831578/spri
 ng-modified-sports-sign-ups-begin
DTSTART;VALUE=DATE:20240218
DTEND;VALUE=DATE:20240219
END:VEVENT
END:VCALENDAR
