BEGIN:VCALENDAR
VERSION:2.0
PRODID:SchoolNow
CALSCALE:GREGORIAN
BEGIN:VEVENT
UID:b4dba37a-62ef-11ee-9b11-0a58a9feac02
DTSTAMP:20231004T195352Z
SUMMARY:High school spring sports begin
URL;VALUE=URI:https://www.albanyschools.org/athletics/calendar/4831580/high
 -school-spring-sports-sign-ups-begin
DTSTART;VALUE=DATE:20240311
DTEND;VALUE=DATE:20240312
END:VEVENT
END:VCALENDAR
