BEGIN:VCALENDAR
VERSION:2.0
PRODID:SchoolNow
CALSCALE:GREGORIAN
BEGIN:VEVENT
UID:d8493a84-62ef-11ee-a62f-0a58a9feac02
DTSTAMP:20240212T164256Z
SUMMARY:Modified spring sports begin
URL;VALUE=URI:https://www.albanyschools.org/athletics/calendar/4831581/modi
 fied-spring-sports-begin
DTSTART;VALUE=DATE:20240318
DTEND;VALUE=DATE:20240319
END:VEVENT
END:VCALENDAR
