BEGIN:VCALENDAR
VERSION:2.0
PRODID:SchoolNow
CALSCALE:GREGORIAN
BEGIN:VEVENT
UID:0b0474c8-8ecb-11ee-9769-0e2cf3cdd053
DTSTAMP:20231129T152200Z
SUMMARY:Albany High School Meet the Coaches Night
URL;VALUE=URI:https://www.albanyschools.org/athletics/calendar/4973994/alba
 ny-high-school-meet-the-coaches-night
DTSTART:20231204T223000Z
DTEND:20231204T233000Z
END:VEVENT
END:VCALENDAR
