BEGIN:VCALENDAR
VERSION:2.0
PRODID:SchoolNow
CALSCALE:GREGORIAN
BEGIN:VEVENT
UID:b5af4d4a-2d7b-11ef-a124-0ee4af65b7c3
DTSTAMP:20240618T140442Z
SUMMARY:Registration for high school football begins
URL;VALUE=URI:https://www.albanyschools.org/athletics/calendar/6138443/regi
 stration-for-high-school-football-begins
DTSTART:20240719T140300Z
DTEND:20240719T150300Z
END:VEVENT
END:VCALENDAR
