BEGIN:VCALENDAR
VERSION:2.0
PRODID:SchoolNow
CALSCALE:GREGORIAN
BEGIN:VEVENT
UID:15fe7036-2d7c-11ef-a14a-023038674657
DTSTAMP:20240618T140723Z
SUMMARY:Registration for fall high school sports begins
URL;VALUE=URI:https://www.albanyschools.org/athletics/calendar/6138859/regi
 stration-for-high-school-sports-begins
DTSTART:20240726T140500Z
DTEND:20240726T150500Z
END:VEVENT
END:VCALENDAR
