BEGIN:VCALENDAR
VERSION:2.0
PRODID:SchoolNow
CALSCALE:GREGORIAN
BEGIN:VEVENT
UID:6d1101a8-4dc6-11ef-8eb8-0a58a9feac02
DTSTAMP:20240730T134039Z
SUMMARY:Tryouts for fall high school sports begin
URL;VALUE=URI:https://www.albanyschools.org/athletics/calendar/6324432/tryo
 uts-for-fall-high-school-sports-begin
DTSTART:20240826T140600Z
DTEND:20240826T150600Z
END:VEVENT
END:VCALENDAR
