BEGIN:VCALENDAR
VERSION:2.0
PRODID:SchoolNow
CALSCALE:GREGORIAN
BEGIN:VEVENT
UID:8fb36e74-534a-11ef-adf2-0a58a9feac02
DTSTAMP:20240805T164837Z
SUMMARY:Sports Physicals
URL;VALUE=URI:https://www.albanyschools.org/athletics/calendar/6357991/spor
 ts-physicals-clone
DTSTART:20240827T130000Z
DTEND:20240827T170000Z
END:VEVENT
END:VCALENDAR
