BEGIN:VCALENDAR
VERSION:2.0
PRODID:SchoolNow
CALSCALE:GREGORIAN
BEGIN:VEVENT
UID:08a7b624-75c8-11ef-989a-02090319b111
DTSTAMP:20240918T141227Z
SUMMARY:Fall sports pictures
URL;VALUE=URI:https://www.albanyschools.org/athletics/calendar/6633920/fall
 -sports-pictures
DTSTART:20241004T193000Z
DTEND:20241004T223000Z
END:VEVENT
END:VCALENDAR
