BEGIN:VCALENDAR
VERSION:2.0
PRODID:SchoolNow
CALSCALE:GREGORIAN
BEGIN:VEVENT
UID:2c4ab022-75c8-11ef-8ff9-0a58a9feac02
DTSTAMP:20240918T141326Z
SUMMARY:Fall sports pictures
URL;VALUE=URI:https://www.albanyschools.org/athletics/calendar/6633922/fall
 -sports-pictures
DTSTART:20241011T193000Z
DTEND:20241011T223000Z
END:VEVENT
END:VCALENDAR
