BEGIN:VCALENDAR
VERSION:2.0
PRODID:SchoolNow
CALSCALE:GREGORIAN
BEGIN:VEVENT
UID:e984b700-7f32-11ef-9197-0a58a9feac02
DTSTAMP:20240930T135011Z
SUMMARY:Booster Club meeting
URL;VALUE=URI:https://www.albanyschools.org/athletics/calendar/6723827/boos
 ter-club-meeting
DTSTART:20241021T220000Z
DTEND:20241021T230000Z
END:VEVENT
END:VCALENDAR
