BEGIN:VCALENDAR
VERSION:2.0
PRODID:SchoolNow
CALSCALE:GREGORIAN
BEGIN:VEVENT
UID:f22b072e-7f32-11ef-872e-0a58a9feac02
DTSTAMP:20240930T135025Z
SUMMARY:Booster Club meeting
URL;VALUE=URI:https://www.albanyschools.org/athletics/calendar/6723828/boos
 ter-club-meeting-clone
DTSTART:20241118T230000Z
DTEND:20241119T000000Z
END:VEVENT
END:VCALENDAR
