BEGIN:VCALENDAR
VERSION:2.0
PRODID:SchoolNow
CALSCALE:GREGORIAN
BEGIN:VEVENT
UID:fcef161e-7f32-11ef-b727-0a58a9feac02
DTSTAMP:20240930T135044Z
SUMMARY:Booster Club meeting
URL;VALUE=URI:https://www.albanyschools.org/athletics/calendar/6723829/boos
 ter-club-meeting-clone
DTSTART:20241216T230000Z
DTEND:20241217T000000Z
END:VEVENT
END:VCALENDAR
