BEGIN:VCALENDAR
VERSION:2.0
PRODID:SchoolNow
CALSCALE:GREGORIAN
BEGIN:VEVENT
UID:061cce70-7f33-11ef-9c61-0afffc5e2b39
DTSTAMP:20240930T135059Z
SUMMARY:Booster Club meeting
URL;VALUE=URI:https://www.albanyschools.org/athletics/calendar/6723830/boos
 ter-club-meeting-clone
DTSTART:20250113T230000Z
DTEND:20250114T000000Z
END:VEVENT
END:VCALENDAR
