BEGIN:VCALENDAR
VERSION:2.0
PRODID:SchoolNow
CALSCALE:GREGORIAN
BEGIN:VEVENT
UID:199c2518-7f33-11ef-89a7-0e3621fc656d
DTSTAMP:20240930T135132Z
SUMMARY:Booster Club meeting
URL;VALUE=URI:https://www.albanyschools.org/athletics/calendar/6723831/boos
 ter-club-meeting-clone
DTSTART:20250210T230000Z
DTEND:20250211T000000Z
END:VEVENT
END:VCALENDAR
