BEGIN:VCALENDAR
VERSION:2.0
PRODID:SchoolNow
CALSCALE:GREGORIAN
BEGIN:VEVENT
UID:57f0b18a-7f33-11ef-a2fd-0a58a9feac02
DTSTAMP:20240930T135316Z
SUMMARY:Booster Club meeting
URL;VALUE=URI:https://www.albanyschools.org/athletics/calendar/6723835/boos
 ter-club-meeting-clone
DTSTART:20250519T220000Z
DTEND:20250519T230000Z
END:VEVENT
END:VCALENDAR
