BEGIN:VCALENDAR
VERSION:2.0
PRODID:SchoolNow
CALSCALE:GREGORIAN
BEGIN:VEVENT
UID:66bcc550-7f33-11ef-8ae0-0a58a9feac02
DTSTAMP:20240930T135341Z
SUMMARY:Booster Club meeting
URL;VALUE=URI:https://www.albanyschools.org/athletics/calendar/6723836/boos
 ter-club-meeting-clone
DTSTART:20250616T220000Z
DTEND:20250616T230000Z
END:VEVENT
END:VCALENDAR
