BEGIN:VCALENDAR
VERSION:2.0
PRODID:SchoolNow
CALSCALE:GREGORIAN
BEGIN:VEVENT
UID:a0771282-8bd6-11ef-8296-0ec3106f561f
DTSTAMP:20241018T141304Z
SUMMARY:Fall sports photos - additional session
LOCATION:Albany High annex gym
URL;VALUE=URI:https://www.albanyschools.org/athletics/calendar/6836692/fall
 -sports-photos
DTSTART:20241023T194500Z
DTEND:20241023T204500Z
END:VEVENT
END:VCALENDAR
