BEGIN:VCALENDAR
VERSION:2.0
PRODID:SchoolNow
CALSCALE:GREGORIAN
BEGIN:VEVENT
UID:6f9e3714-96e2-11ef-a6ae-0affd05a1731
DTSTAMP:20241030T171435Z
SUMMARY:High school winter sports begin
URL;VALUE=URI:https://www.albanyschools.org/athletics/calendar/6928532/high
 -school-winter-sports-begin
DTSTART;VALUE=DATE:20241118
DTEND;VALUE=DATE:20241119
END:VEVENT
END:VCALENDAR
