BEGIN:VCALENDAR
VERSION:2.0
PRODID:SchoolNow
CALSCALE:GREGORIAN
BEGIN:VEVENT
UID:82d513b6-96e2-11ef-b6e9-0a58a9feac02
DTSTAMP:20241030T171507Z
SUMMARY:Modified winter sports begin
URL;VALUE=URI:https://www.albanyschools.org/athletics/calendar/6928535/modi
 fied-winter-sports-begin
DTSTART;VALUE=DATE:20241125
DTEND;VALUE=DATE:20241126
END:VEVENT
END:VCALENDAR
