BEGIN:VCALENDAR
VERSION:2.0
PRODID:SchoolNow
CALSCALE:GREGORIAN
BEGIN:VEVENT
UID:8eca872e-ce9a-11ef-ae3d-0a58a9feac02
DTSTAMP:20250117T205626Z
SUMMARY:Winter sports pictures: high school sports (1/28)
LOCATION:Annex gymnasium
URL;VALUE=URI:https://www.albanyschools.org/athletics/calendar/7291661/wint
 er-sports-pictures-high-school-sports-1-28
DTSTART:20250128T204500Z
DTEND:20250128T214500Z
END:VEVENT
END:VCALENDAR
