BEGIN:VCALENDAR
VERSION:2.0
PRODID:SchoolNow
CALSCALE:GREGORIAN
BEGIN:VEVENT
UID:9c2bc7d4-d511-11ef-b2cf-0e085070b3d9
DTSTAMP:20250117T202828Z
SUMMARY:Boys' tennis - spring 2025 interest meeting
LOCATION:Albany High School - room 2142
URL;VALUE=URI:https://www.albanyschools.org/athletics/calendar/7330897/boys
 -tennis-spring-2025-interest-meeting
DTSTART:20250128T203000Z
DTEND:20250128T211500Z
ATTACH;FILENAME=BOYS TENNIS INTEREST MEETING.pdf;FMTTYPE=application/pdf:ht
 tps://campussuite-storage.s3.amazonaws.com/prod/1558712/d5d32b58-674e-11e9
 -aaaf-0a6d339d5cd0/2904098/890a22a4-d511-11ef-8d1e-0a58a9feac02/file/BOYS 
 TENNIS INTEREST MEETING.pdf
END:VEVENT
END:VCALENDAR
