BEGIN:VCALENDAR
VERSION:2.0
PRODID:SchoolNow
CALSCALE:GREGORIAN
BEGIN:VEVENT
UID:fbd9813a-4082-11f0-8b3f-0a58a9feac02
DTSTAMP:20250603T135936Z
SUMMARY:Athletics College Commitment Ceremony
URL;VALUE=URI:https://www.albanyschools.org/athletics/calendar/8245179/athl
 etics-college-commitment-ceremony
DTSTART:20250603T200000Z
DTEND:20250603T210000Z
END:VEVENT
END:VCALENDAR
