BEGIN:VCALENDAR
VERSION:2.0
PRODID:SchoolNow
CALSCALE:GREGORIAN
BEGIN:VEVENT
UID:6397d7ce-56b6-11f0-8822-0a58a9feac02
DTSTAMP:20250801T150237Z
SUMMARY:ATHLETICS: registration begins for modified fall sports
URL;VALUE=URI:https://www.albanyschools.org/athletics/calendar/8374851/athl
 etics-registration-begins-for-modified-sports
DTSTART;VALUE=DATE:20250728
DTEND;VALUE=DATE:20250729
END:VEVENT
END:VCALENDAR
