BEGIN:VCALENDAR
VERSION:2.0
PRODID:SchoolNow
CALSCALE:GREGORIAN
BEGIN:VEVENT
UID:957aee48-6e3a-11f0-b313-0a58a9feac02
DTSTAMP:20250731T182248Z
SUMMARY:Booster Club Meeting (9/15)
LOCATION:Albany High library
URL;VALUE=URI:https://www.albanyschools.org/athletics/calendar/8461475/boos
 ter-club-meeting-9-15
DTSTART:20250915T220000Z
DTEND:20250915T230000Z
END:VEVENT
END:VCALENDAR
