BEGIN:VCALENDAR
VERSION:2.0
PRODID:SchoolNow
CALSCALE:GREGORIAN
BEGIN:VEVENT
UID:ad4cccda-6e3a-11f0-ad15-0affd0475fcb
DTSTAMP:20251212T142052Z
SUMMARY:Booster Club Meeting (12/15)
LOCATION:Albany High library
URL;VALUE=URI:https://www.albanyschools.org/athletics/calendar/8461478/boos
 ter-club-meeting-12-15
DTSTART:20251215T230000Z
DTEND:20251216T000000Z
END:VEVENT
END:VCALENDAR
