BEGIN:VCALENDAR
VERSION:2.0
PRODID:SchoolNow
CALSCALE:GREGORIAN
BEGIN:VEVENT
UID:4b038586-6e3b-11f0-9145-0a58a9feac02
DTSTAMP:20250731T182218Z
SUMMARY:Booster Club Meeting (11/7)
LOCATION:Albany High library
URL;VALUE=URI:https://www.albanyschools.org/athletics/calendar/8461482/boos
 ter-club-meeting-11-7
DTSTART:20251107T230000Z
DTEND:20251108T000000Z
END:VEVENT
END:VCALENDAR
